Package: widgetTools Version: 1.80.0 Command: /Library/Frameworks/R.framework/Resources/bin/R CMD build --keep-empty-dirs --no-resave-data widgetTools StartedAt: 2024-03-03 18:42:42 -0500 (Sun, 03 Mar 2024) EndedAt: 2024-03-03 18:42:55 -0500 (Sun, 03 Mar 2024) EllapsedTime: 12.4 seconds RetCode: 0 Status: OK PackageFile: widgetTools_1.80.0.tar.gz PackageFileSize: 226.9 KiB