Package: widgetTools Version: 1.80.0 Command: /home/biocbuild/bbs-3.18-bioc/R/bin/R CMD INSTALL widgetTools StartedAt: 2024-04-15 15:06:57 -0400 (Mon, 15 Apr 2024) EndedAt: 2024-04-15 15:07:19 -0400 (Mon, 15 Apr 2024) EllapsedTime: 22.0 seconds RetCode: 0 Status: OK