Package: wiggleplotr Version: 1.25.0 Command: /home/biocbuild/R/R-4.3.1/bin/R CMD check --install=check:wiggleplotr.install-out.txt --library=/home/biocbuild/R/R-4.3.1/site-library --timings wiggleplotr_1.25.0.tar.gz StartedAt: 2023-10-13 14:04:16 -0000 (Fri, 13 Oct 2023) EndedAt: 2023-10-13 14:06:29 -0000 (Fri, 13 Oct 2023) EllapsedTime: 133.2 seconds RetCode: 0 Status: OK CheckDir: wiggleplotr.Rcheck Warnings: 0