Package: wiggleplotr Version: 1.26.0 Command: /home/biocbuild/R/R-4.3.1/bin/R CMD INSTALL wiggleplotr StartedAt: 2023-11-01 20:21:33 -0000 (Wed, 01 Nov 2023) EndedAt: 2023-11-01 20:21:38 -0000 (Wed, 01 Nov 2023) EllapsedTime: 4.9 seconds RetCode: 0 Status: OK