Package: wiggleplotr Version: 1.26.0 Command: rm -rf wiggleplotr.buildbin-libdir && mkdir wiggleplotr.buildbin-libdir && /Users/biocbuild/BBS/utils/build-universal.sh wiggleplotr_1.26.0.tar.gz /Library/Frameworks/R.framework/Resources/bin/R wiggleplotr.buildbin-libdir StartedAt: 2024-03-04 01:10:41 -0500 (Mon, 04 Mar 2024) EndedAt: 2024-03-04 01:10:50 -0500 (Mon, 04 Mar 2024) EllapsedTime: 9.4 seconds RetCode: 0 Status: OK PackageFile: wiggleplotr_1.26.0.tgz PackageFileSize: 367.3 KiB