Package: wiggleplotr Version: 1.26.0 Command: /Library/Frameworks/R.framework/Resources/bin/R CMD check --install=check:wiggleplotr.install-out.txt --library=/Library/Frameworks/R.framework/Resources/library --no-vignettes --timings wiggleplotr_1.26.0.tar.gz StartedAt: 2024-03-04 00:12:36 -0500 (Mon, 04 Mar 2024) EndedAt: 2024-03-04 00:14:07 -0500 (Mon, 04 Mar 2024) EllapsedTime: 90.6 seconds RetCode: 0 Status: OK CheckDir: wiggleplotr.Rcheck Warnings: 0