Package: wiggleplotr Version: 1.26.0 Command: /Library/Frameworks/R.framework/Resources/bin/R CMD INSTALL wiggleplotr StartedAt: 2024-03-03 15:16:11 -0500 (Sun, 03 Mar 2024) EndedAt: 2024-03-03 15:16:18 -0500 (Sun, 03 Mar 2024) EllapsedTime: 7.5 seconds RetCode: 0 Status: OK