Package: wiggleplotr Version: 1.26.0 Command: /home/biocbuild/bbs-3.18-bioc/R/bin/R CMD build --keep-empty-dirs --no-resave-data wiggleplotr StartedAt: 2024-04-15 19:46:12 -0400 (Mon, 15 Apr 2024) EndedAt: 2024-04-15 19:46:50 -0400 (Mon, 15 Apr 2024) EllapsedTime: 38.2 seconds RetCode: 0 Status: OK PackageFile: wiggleplotr_1.26.0.tar.gz PackageFileSize: 301.2 KiB