Package: wiggleplotr Version: 1.26.0 Command: /home/biocbuild/bbs-3.18-bioc/R/bin/R CMD check --install=check:wiggleplotr.install-out.txt --library=/home/biocbuild/bbs-3.18-bioc/R/site-library --timings wiggleplotr_1.26.0.tar.gz StartedAt: 2024-04-16 05:13:19 -0400 (Tue, 16 Apr 2024) EndedAt: 2024-04-16 05:15:39 -0400 (Tue, 16 Apr 2024) EllapsedTime: 139.7 seconds RetCode: 0 Status: OK CheckDir: wiggleplotr.Rcheck Warnings: 0