Package: wiggleplotr Version: 1.26.0 Command: chmod a+r wiggleplotr -R && F:\biocbuild\bbs-3.18-bioc\R\bin\R.exe CMD build --keep-empty-dirs --no-resave-data wiggleplotr StartedAt: 2024-04-15 21:58:21 -0400 (Mon, 15 Apr 2024) EndedAt: 2024-04-15 21:59:08 -0400 (Mon, 15 Apr 2024) EllapsedTime: 46.4 seconds RetCode: 0 Status: OK PackageFile: wiggleplotr_1.26.0.tar.gz PackageFileSize: 167.1 KiB