Package: xcms Version: 4.0.0 Command: /home/biocbuild/R/R-4.3.1/bin/R CMD build --keep-empty-dirs --no-resave-data xcms StartedAt: 2023-11-02 07:28:20 -0000 (Thu, 02 Nov 2023) EndedAt: 2023-11-02 07:31:55 -0000 (Thu, 02 Nov 2023) EllapsedTime: 215.5 seconds RetCode: 1 Status: ERROR PackageFile: None PackageFileSize: NA