Package: xcms Version: 3.99.5 Command: /home/biocbuild/R/R-4.3.1/bin/R CMD check --install=check:xcms.install-out.txt --library=/home/biocbuild/R/R-4.3.1/site-library --timings xcms_3.99.5.tar.gz StartedAt: 2023-10-12 11:56:51 -0000 (Thu, 12 Oct 2023) EndedAt: 2023-10-12 12:27:57 -0000 (Thu, 12 Oct 2023) EllapsedTime: 1865.9 seconds RetCode: 0 Status: OK CheckDir: xcms.Rcheck Warnings: 0