Package: xcms Version: 4.0.2 Command: rm -rf xcms.buildbin-libdir && mkdir xcms.buildbin-libdir && /Users/biocbuild/BBS/utils/build-universal.sh xcms_4.0.2.tar.gz /Library/Frameworks/R.framework/Resources/bin/R xcms.buildbin-libdir StartedAt: 2024-03-04 01:10:47 -0500 (Mon, 04 Mar 2024) EndedAt: 2024-03-04 01:12:27 -0500 (Mon, 04 Mar 2024) EllapsedTime: 100.4 seconds RetCode: 0 Status: OK PackageFile: xcms_4.0.2.tgz PackageFileSize: 10.9 MiB