Package: xcms Version: 4.0.2 Command: /Library/Frameworks/R.framework/Resources/bin/R CMD build --keep-empty-dirs --no-resave-data xcms StartedAt: 2024-03-03 18:43:19 -0500 (Sun, 03 Mar 2024) EndedAt: 2024-03-03 18:47:29 -0500 (Sun, 03 Mar 2024) EllapsedTime: 250.0 seconds RetCode: 0 Status: OK PackageFile: xcms_4.0.2.tar.gz PackageFileSize: 8.141 MiB