Package: xcms Version: 4.0.2 Command: /Library/Frameworks/R.framework/Resources/bin/R CMD check --install=check:xcms.install-out.txt --library=/Library/Frameworks/R.framework/Resources/library --no-vignettes --timings xcms_4.0.2.tar.gz StartedAt: 2024-03-04 00:12:56 -0500 (Mon, 04 Mar 2024) EndedAt: 2024-03-04 00:28:05 -0500 (Mon, 04 Mar 2024) EllapsedTime: 909.7 seconds RetCode: 0 Status: OK CheckDir: xcms.Rcheck Warnings: 0