Package: xcms Version: 4.0.2 Command: /Library/Frameworks/R.framework/Resources/bin/R CMD INSTALL xcms StartedAt: 2024-03-03 15:34:55 -0500 (Sun, 03 Mar 2024) EndedAt: 2024-03-03 15:37:09 -0500 (Sun, 03 Mar 2024) EllapsedTime: 134.7 seconds RetCode: 0 Status: OK