Package: xcore Version: 1.6.0 Command: /home/biocbuild/R/R-4.3.1/bin/R CMD build --keep-empty-dirs --no-resave-data xcore StartedAt: 2023-11-02 07:28:28 -0000 (Thu, 02 Nov 2023) EndedAt: 2023-11-02 08:08:28 -0000 (Thu, 02 Nov 2023) EllapsedTime: 2400.0 seconds RetCode: None Status: TIMEOUT PackageFile: None PackageFileSize: NA