Package: zFPKM
Version: 1.24.0
Command: /home/biocbuild/R/R-4.3.1/bin/R CMD INSTALL zFPKM
StartedAt: 2023-11-01 20:13:41 -0000 (Wed, 01 Nov 2023)
EndedAt: 2023-11-01 20:14:14 -0000 (Wed, 01 Nov 2023)
EllapsedTime: 32.8 seconds
RetCode: 0
Status: OK