Package: zFPKM Version: 1.24.0 Command: /Library/Frameworks/R.framework/Resources/bin/R CMD check --install=check:zFPKM.install-out.txt --library=/Library/Frameworks/R.framework/Resources/library --no-vignettes --timings zFPKM_1.24.0.tar.gz StartedAt: 2024-04-16 10:35:54 -0400 (Tue, 16 Apr 2024) EndedAt: 2024-04-16 10:40:32 -0400 (Tue, 16 Apr 2024) EllapsedTime: 278.1 seconds RetCode: 0 Status: OK CheckDir: zFPKM.Rcheck Warnings: 0