Package: zFPKM Version: 1.24.0 Command: rm -rf zFPKM.buildbin-libdir && mkdir zFPKM.buildbin-libdir && F:\biocbuild\bbs-3.18-bioc\R\bin\R.exe CMD INSTALL --build --library=zFPKM.buildbin-libdir zFPKM_1.24.0.tar.gz StartedAt: 2024-04-16 07:51:59 -0400 (Tue, 16 Apr 2024) EndedAt: 2024-04-16 07:52:26 -0400 (Tue, 16 Apr 2024) EllapsedTime: 27.0 seconds RetCode: 0 Status: OK PackageFile: zFPKM_1.24.0.zip PackageFileSize: 77.48 KiB