Package: zFPKM Version: 1.24.0 Command: chmod a+r zFPKM -R && F:\biocbuild\bbs-3.18-bioc\R\bin\R.exe CMD build --keep-empty-dirs --no-resave-data zFPKM StartedAt: 2024-04-15 22:00:10 -0400 (Mon, 15 Apr 2024) EndedAt: 2024-04-15 22:01:05 -0400 (Mon, 15 Apr 2024) EllapsedTime: 54.4 seconds RetCode: 0 Status: OK PackageFile: zFPKM_1.24.0.tar.gz PackageFileSize: 57.13 KiB