Package: zellkonverter Version: 1.12.0 Command: /home/biocbuild/R/R-4.3.1/bin/R CMD INSTALL zellkonverter StartedAt: 2023-11-01 20:14:54 -0000 (Wed, 01 Nov 2023) EndedAt: 2023-11-01 20:15:19 -0000 (Wed, 01 Nov 2023) EllapsedTime: 24.6 seconds RetCode: 0 Status: OK