Package: zellkonverter Version: 1.12.1 Command: rm -rf zellkonverter.buildbin-libdir && mkdir zellkonverter.buildbin-libdir && /Users/biocbuild/BBS/utils/build-universal.sh zellkonverter_1.12.1.tar.gz /Library/Frameworks/R.framework/Resources/bin/R zellkonverter.buildbin-libdir StartedAt: 2024-04-16 12:57:31 -0400 (Tue, 16 Apr 2024) EndedAt: 2024-04-16 12:58:12 -0400 (Tue, 16 Apr 2024) EllapsedTime: 40.3 seconds RetCode: 0 Status: OK PackageFile: zellkonverter_1.12.1.tgz PackageFileSize: 1.206 <A href="http://en.wikipedia.org/wiki/MiB" target="_blank">MiB</A>