Package: zlibbioc Version: 1.48.0 Command: /home/biocbuild/R/R-4.3.1/bin/R CMD build --keep-empty-dirs --no-resave-data zlibbioc StartedAt: 2023-11-02 07:31:33 -0000 (Thu, 02 Nov 2023) EndedAt: 2023-11-02 07:31:34 -0000 (Thu, 02 Nov 2023) EllapsedTime: 1.0 seconds RetCode: 0 Status: OK PackageFile: zlibbioc_1.48.0.tar.gz PackageFileSize: 159.5 KiB