Package: zlibbioc Version: 1.48.2 Command: rm -rf zlibbioc.buildbin-libdir && mkdir zlibbioc.buildbin-libdir && /Users/biocbuild/BBS/utils/build-universal.sh zlibbioc_1.48.2.tar.gz /Library/Frameworks/R.framework/Resources/bin/R zlibbioc.buildbin-libdir StartedAt: 2024-04-16 12:57:47 -0400 (Tue, 16 Apr 2024) EndedAt: 2024-04-16 12:57:56 -0400 (Tue, 16 Apr 2024) EllapsedTime: 8.9 seconds RetCode: 0 Status: OK PackageFile: zlibbioc_1.48.2.tgz PackageFileSize: 226.7 KiB