Package: zlibbioc Version: 1.48.2 Command: /home/biocbuild/bbs-3.18-bioc/R/bin/R CMD build --keep-empty-dirs --no-resave-data zlibbioc StartedAt: 2024-04-15 19:48:05 -0400 (Mon, 15 Apr 2024) EndedAt: 2024-04-15 19:48:09 -0400 (Mon, 15 Apr 2024) EllapsedTime: 4.3 seconds RetCode: 0 Status: OK PackageFile: zlibbioc_1.48.2.tar.gz PackageFileSize: 373.7 KiB