Package: GenomicFeatures Version: 1.54.3 Command: /Library/Frameworks/R.framework/Resources/bin/R CMD check --test-dir=longtests --no-stop-on-test-error --no-codoc --no-examples --no-manual --ignore-vignettes --check-subdirs=no GenomicFeatures_1.54.3.tar.gz StartedAt: 2024-03-02 15:04:42 -0500 (Sat, 02 Mar 2024) EndedAt: 2024-03-02 15:07:54 -0500 (Sat, 02 Mar 2024) EllapsedTime: 192.2 seconds RetCode: 0 Status: WARNINGS CheckDir: GenomicFeatures.Rcheck Warnings: 1