Package: GenomicFeatures Version: 1.54.4 Command: /Library/Frameworks/R.framework/Resources/bin/R CMD check --test-dir=longtests --no-stop-on-test-error --no-codoc --no-examples --no-manual --ignore-vignettes --check-subdirs=no GenomicFeatures_1.54.4.tar.gz StartedAt: 2024-04-13 16:14:36 -0400 (Sat, 13 Apr 2024) EndedAt: 2024-04-13 16:18:55 -0400 (Sat, 13 Apr 2024) EllapsedTime: 258.8 seconds RetCode: 0 Status: WARNINGS CheckDir: GenomicFeatures.Rcheck Warnings: 1