Package: GenomicFeatures Version: 1.54.4 Command: F:\biocbuild\bbs-3.18-bioc\R\bin\R.exe CMD check --no-multiarch --test-dir=longtests --no-stop-on-test-error --no-codoc --no-examples --no-manual --ignore-vignettes --check-subdirs=no GenomicFeatures_1.54.4.tar.gz StartedAt: 2024-04-13 16:15:28 -0400 (Sat, 13 Apr 2024) EndedAt: 2024-04-13 16:18:57 -0400 (Sat, 13 Apr 2024) EllapsedTime: 209.1 seconds RetCode: 0 Status: WARNINGS CheckDir: GenomicFeatures.Rcheck Warnings: 1