Package: TENxIO Version: 1.4.0 Command: /home/biocbuild/bbs-3.18-bioc/R/bin/R CMD check --test-dir=longtests --no-stop-on-test-error --no-codoc --no-examples --no-manual --ignore-vignettes --check-subdirs=no TENxIO_1.4.0.tar.gz StartedAt: 2024-04-13 16:30:55 -0400 (Sat, 13 Apr 2024) EndedAt: 2024-04-13 16:33:29 -0400 (Sat, 13 Apr 2024) EllapsedTime: 153.5 seconds RetCode: 0 Status: OK CheckDir: TENxIO.Rcheck Warnings: 0