Package: TENxIO Version: 1.4.0 Command: chmod a+r TENxIO -R && F:\biocbuild\bbs-3.18-bioc\R\bin\R.exe CMD build --keep-empty-dirs --no-resave-data --no-build-vignettes --no-manual TENxIO StartedAt: 2023-12-09 11:03:44 -0500 (Sat, 09 Dec 2023) EndedAt: 2023-12-09 11:04:13 -0500 (Sat, 09 Dec 2023) EllapsedTime: 29.5 seconds RetCode: 0 Status: OK PackageFile: TENxIO_1.4.0.tar.gz PackageFileSize: 35.89 KiB