Package: basilisk Version: 1.14.1 Command: /Library/Frameworks/R.framework/Resources/bin/R CMD build --keep-empty-dirs --no-resave-data --no-build-vignettes --no-manual basilisk StartedAt: 2023-12-09 11:00:23 -0500 (Sat, 09 Dec 2023) EndedAt: 2023-12-09 11:00:26 -0500 (Sat, 09 Dec 2023) EllapsedTime: 3.1 seconds RetCode: 0 Status: OK PackageFile: basilisk_1.14.1.tar.gz PackageFileSize: 36.73 KiB