Package: beachmat Version: 2.18.0 Command: chmod a+r beachmat -R && F:\biocbuild\bbs-3.18-bioc\R\bin\R.exe CMD build --keep-empty-dirs --no-resave-data --no-build-vignettes --no-manual beachmat StartedAt: 2023-12-09 11:02:20 -0500 (Sat, 09 Dec 2023) EndedAt: 2023-12-09 11:02:25 -0500 (Sat, 09 Dec 2023) EllapsedTime: 5.4 seconds RetCode: 0 Status: OK PackageFile: beachmat_2.18.0.tar.gz PackageFileSize: 208.6 KiB