Package: beachmat Version: 2.18.1 Command: F:\biocbuild\bbs-3.18-bioc\R\bin\R.exe CMD check --no-multiarch --test-dir=longtests --no-stop-on-test-error --no-codoc --no-examples --no-manual --ignore-vignettes --check-subdirs=no beachmat_2.18.1.tar.gz StartedAt: 2024-04-13 16:04:28 -0400 (Sat, 13 Apr 2024) EndedAt: 2024-04-13 16:30:21 -0400 (Sat, 13 Apr 2024) EllapsedTime: 1552.6 seconds RetCode: 1 Status: ERROR CheckDir: beachmat.Rcheck Warnings: NA