Package: biodb Version: 1.10.0 Command: /Library/Frameworks/R.framework/Resources/bin/R CMD check --test-dir=longtests --no-stop-on-test-error --no-codoc --no-examples --no-manual --ignore-vignettes --check-subdirs=no biodb_1.10.0.tar.gz StartedAt: 2024-04-13 16:02:15 -0400 (Sat, 13 Apr 2024) EndedAt: 2024-04-13 16:08:01 -0400 (Sat, 13 Apr 2024) EllapsedTime: 345.3 seconds RetCode: 0 Status: OK CheckDir: biodb.Rcheck Warnings: 0