Package: biodb Version: 1.10.0 Command: chmod a+r biodb -R && F:\biocbuild\bbs-3.18-bioc\R\bin\R.exe CMD build --keep-empty-dirs --no-resave-data --no-build-vignettes --no-manual biodb StartedAt: 2023-12-09 11:02:20 -0500 (Sat, 09 Dec 2023) EndedAt: 2023-12-09 11:02:29 -0500 (Sat, 09 Dec 2023) EllapsedTime: 9.6 seconds RetCode: 0 Status: OK PackageFile: biodb_1.10.0.tar.gz PackageFileSize: 342.6 KiB