Package: biodbExpasy Version: 1.6.0 Command: chmod a+r biodbExpasy -R && F:\biocbuild\bbs-3.18-bioc\R\bin\R.exe CMD build --keep-empty-dirs --no-resave-data --no-build-vignettes --no-manual biodbExpasy StartedAt: 2023-12-09 11:02:20 -0500 (Sat, 09 Dec 2023) EndedAt: 2023-12-09 11:02:37 -0500 (Sat, 09 Dec 2023) EllapsedTime: 17.6 seconds RetCode: 0 Status: OK PackageFile: biodbExpasy_1.6.0.tar.gz PackageFileSize: 14.52 KiB