Package: cBioPortalData Version: 2.14.0 Command: /home/biocbuild/bbs-3.18-bioc/R/bin/R CMD build --keep-empty-dirs --no-resave-data --no-build-vignettes --no-manual cBioPortalData StartedAt: 2023-12-09 11:00:13 -0500 (Sat, 09 Dec 2023) EndedAt: 2023-12-09 11:00:14 -0500 (Sat, 09 Dec 2023) EllapsedTime: 0.9 seconds RetCode: 0 Status: OK PackageFile: cBioPortalData_2.14.0.tar.gz PackageFileSize: 64.21 KiB