Package: extraChIPs Version: 1.6.1 Command: /Library/Frameworks/R.framework/Resources/bin/R CMD check --test-dir=longtests --no-stop-on-test-error --no-codoc --no-examples --no-manual --ignore-vignettes --check-subdirs=no extraChIPs_1.6.1.tar.gz StartedAt: 2024-03-02 15:04:36 -0500 (Sat, 02 Mar 2024) EndedAt: 2024-03-02 15:10:23 -0500 (Sat, 02 Mar 2024) EllapsedTime: 347.5 seconds RetCode: 0 Status: OK CheckDir: extraChIPs.Rcheck Warnings: 0