Package: extraChIPs Version: 1.6.0 Command: chmod a+r extraChIPs -R && F:\biocbuild\bbs-3.18-bioc\R\bin\R.exe CMD build --keep-empty-dirs --no-resave-data --no-build-vignettes --no-manual extraChIPs StartedAt: 2023-12-09 11:03:19 -0500 (Sat, 09 Dec 2023) EndedAt: 2023-12-09 11:03:48 -0500 (Sat, 09 Dec 2023) EllapsedTime: 29.5 seconds RetCode: 0 Status: OK PackageFile: extraChIPs_1.6.0.tar.gz PackageFileSize: 2.059 MiB