Package: xcms Version: 4.0.2 Command: /Library/Frameworks/R.framework/Resources/bin/R CMD check --test-dir=longtests --no-stop-on-test-error --no-codoc --no-examples --no-manual --ignore-vignettes --check-subdirs=no xcms_4.0.2.tar.gz StartedAt: 2024-04-13 16:21:53 -0400 (Sat, 13 Apr 2024) EndedAt: 2024-04-13 16:37:58 -0400 (Sat, 13 Apr 2024) EllapsedTime: 964.7 seconds RetCode: 0 Status: OK CheckDir: xcms.Rcheck Warnings: 0