Package: xcms Version: 4.0.1 Command: chmod a+r xcms -R && F:\biocbuild\bbs-3.18-bioc\R\bin\R.exe CMD build --keep-empty-dirs --no-resave-data --no-build-vignettes --no-manual xcms StartedAt: 2023-12-09 11:03:48 -0500 (Sat, 09 Dec 2023) EndedAt: 2023-12-09 11:04:17 -0500 (Sat, 09 Dec 2023) EllapsedTime: 29.2 seconds RetCode: 0 Status: OK PackageFile: xcms_4.0.1.tar.gz PackageFileSize: 1.351 MiB