Package: xcms Version: 4.0.2 Command: F:\biocbuild\bbs-3.18-bioc\R\bin\R.exe CMD check --no-multiarch --test-dir=longtests --no-stop-on-test-error --no-codoc --no-examples --no-manual --ignore-vignettes --check-subdirs=no xcms_4.0.2.tar.gz StartedAt: 2024-04-13 16:22:34 -0400 (Sat, 13 Apr 2024) EndedAt: 2024-04-13 16:36:23 -0400 (Sat, 13 Apr 2024) EllapsedTime: 829.5 seconds RetCode: 0 Status: OK CheckDir: xcms.Rcheck Warnings: 0