Package: ADImpute Version: 1.12.0 Command: /Library/Frameworks/R.framework/Resources/bin/R CMD check --install=check:ADImpute.install-out.txt --library=/Library/Frameworks/R.framework/Resources/library --no-vignettes --timings ADImpute_1.12.0.tar.gz StartedAt: 2024-04-17 05:05:17 -0400 (Wed, 17 Apr 2024) EndedAt: 2024-04-17 05:08:10 -0400 (Wed, 17 Apr 2024) EllapsedTime: 173.2 seconds RetCode: 0 Status: WARNINGS CheckDir: ADImpute.Rcheck Warnings: 1