Package: AGDEX Version: 1.50.0 Command: /Library/Frameworks/R.framework/Resources/bin/R CMD build --keep-empty-dirs --no-resave-data AGDEX StartedAt: 2024-04-16 13:13:38 -0400 (Tue, 16 Apr 2024) EndedAt: 2024-04-16 13:14:09 -0400 (Tue, 16 Apr 2024) EllapsedTime: 31.1 seconds RetCode: 0 Status: OK PackageFile: AGDEX_1.50.0.tar.gz PackageFileSize: 487 KiB