Package: AGDEX Version: 1.50.0 Command: /Library/Frameworks/R.framework/Resources/bin/R CMD INSTALL AGDEX StartedAt: 2024-04-16 11:00:22 -0400 (Tue, 16 Apr 2024) EndedAt: 2024-04-16 11:00:41 -0400 (Tue, 16 Apr 2024) EllapsedTime: 18.6 seconds RetCode: 0 Status: OK