Package: ATACseqQC Version: 1.26.0 Command: /Library/Frameworks/R.framework/Resources/bin/R CMD check --install=check:ATACseqQC.install-out.txt --library=/Library/Frameworks/R.framework/Resources/library --no-vignettes --timings ATACseqQC_1.26.0.tar.gz StartedAt: 2024-04-17 05:57:20 -0400 (Wed, 17 Apr 2024) EndedAt: 2024-04-17 06:08:56 -0400 (Wed, 17 Apr 2024) EllapsedTime: 695.8 seconds RetCode: 0 Status: OK CheckDir: ATACseqQC.Rcheck Warnings: 0