##############################################################################
##############################################################################
###
### Running command:
###
###   /Library/Frameworks/R.framework/Resources/bin/R CMD check --install=check:AlphaBeta.install-out.txt --library=/Library/Frameworks/R.framework/Resources/library --no-vignettes --timings AlphaBeta_1.16.0.tar.gz
###
##############################################################################
##############################################################################


* using log directory ‘/Users/biocbuild/bbs-3.18-bioc-mac-arm64/meat/AlphaBeta.Rcheck’
* using R version 4.3.3 (2024-02-29)
* using platform: aarch64-apple-darwin20 (64-bit)
* R was compiled by
    Apple clang version 14.0.0 (clang-1400.0.29.202)
    GNU Fortran (GCC) 12.2.0
* running under: macOS Ventura 13.6.1
* using session charset: UTF-8
* using option ‘--no-vignettes’
* checking for file ‘AlphaBeta/DESCRIPTION’ ... OK
* checking extension type ... Package
* this is package ‘AlphaBeta’ version ‘1.16.0’
* package encoding: UTF-8
* checking package namespace information ... OK
* checking package dependencies ... OK
* checking if this is a source package ... OK
* checking if there is a namespace ... OK
* checking for hidden files and directories ... OK
* checking for portable file names ... OK
* checking for sufficient/correct file permissions ... OK
* checking whether package ‘AlphaBeta’ can be installed ... OK
* checking installed package size ... OK
* checking package directory ... OK
* checking ‘build’ directory ... OK
* checking DESCRIPTION meta-information ... OK
* checking top-level files ... NOTE
File
  LICENSE
is not mentioned in the DESCRIPTION file.
* checking for left-over files ... OK
* checking index information ... OK
* checking package subdirectories ... OK
* checking R files for non-ASCII characters ... OK
* checking R files for syntax errors ... OK
* checking whether the package can be loaded ... OK
* checking whether the package can be loaded with stated dependencies ... OK
* checking whether the package can be unloaded cleanly ... OK
* checking whether the namespace can be loaded with stated dependencies ... OK
* checking whether the namespace can be unloaded cleanly ... OK
* checking dependencies in R code ... OK
* checking S3 generic/method consistency ... OK
* checking replacement functions ... OK
* checking foreign function calls ... OK
* checking R code for possible problems ... NOTE
ABplot: no visible binding for global variable ‘delta.t’
ABplot: no visible binding for global variable ‘div.obs’
BOOTmodel : LSE_intercept: no visible binding for global variable ‘sel’
BOOTmodel: no visible binding for global variable ‘sel’
BOOTmodel: multiple local function definitions for ‘divergence’ with
  different formal arguments
plotPedigree: no visible binding for global variable ‘meth’
plotPedigree: no visible binding for global variable ‘V1’
plotPedigree: no visible binding for global variable ‘V2’
Undefined global functions or variables:
  V1 V2 delta.t div.obs meth sel
* checking Rd files ... OK
* checking Rd metadata ... OK
* checking Rd cross-references ... OK
* checking for missing documentation entries ... OK
* checking for code/documentation mismatches ... OK
* checking Rd \usage sections ... OK
* checking Rd contents ... OK
* checking for unstated dependencies in examples ... OK
* checking sizes of PDF files under ‘inst/doc’ ... OK
* checking files in ‘vignettes’ ... OK
* checking examples ... OK
Examples with CPU (user + system) or elapsed time > 5s
                 user system elapsed
BOOTmodel      90.324  0.411  90.992
ABselectUU     87.507  0.445  89.258
ABselectMM     71.793  0.407  73.881
ABneutral      57.848  0.154  58.291
ABselectUUSOMA  6.360  0.041   6.404
ABneutralSOMA   5.695  0.021   5.783
buildPedigree   1.242  0.174   6.648
rc.meth.lvl     0.905  0.032   6.157
* checking for unstated dependencies in vignettes ... OK
* checking package vignettes in ‘inst/doc’ ... OK
* checking running R code from vignettes ... SKIPPED
* checking re-building of vignette outputs ... SKIPPED
* checking PDF version of manual ... OK
* DONE

Status: 2 NOTEs
See
  ‘/Users/biocbuild/bbs-3.18-bioc-mac-arm64/meat/AlphaBeta.Rcheck/00check.log’
for details.