Package: BUS Version: 1.58.0 Command: rm -rf BUS.buildbin-libdir && mkdir BUS.buildbin-libdir && /Users/biocbuild/BBS/utils/build-universal.sh BUS_1.58.0.tar.gz /Library/Frameworks/R.framework/Resources/bin/R BUS.buildbin-libdir StartedAt: 2024-04-18 08:29:57 -0400 (Thu, 18 Apr 2024) EndedAt: 2024-04-18 08:30:06 -0400 (Thu, 18 Apr 2024) EllapsedTime: 9.0 seconds RetCode: 0 Status: OK PackageFile: BUS_1.58.0.tgz PackageFileSize: 1.892 MiB