Package: BUS Version: 1.58.0 Command: /Library/Frameworks/R.framework/Resources/bin/R CMD check --install=check:BUS.install-out.txt --library=/Library/Frameworks/R.framework/Resources/library --no-vignettes --timings BUS_1.58.0.tar.gz StartedAt: 2024-04-17 07:52:03 -0400 (Wed, 17 Apr 2024) EndedAt: 2024-04-17 07:52:32 -0400 (Wed, 17 Apr 2024) EllapsedTime: 29.3 seconds RetCode: 0 Status: OK CheckDir: BUS.Rcheck Warnings: 0